BEGIN:VCALENDAR
VERSION:2.0
PRODID:-//Bowling Green - ECPv6.13.2.1//NONSGML v1.0//EN
CALSCALE:GREGORIAN
METHOD:PUBLISH
X-WR-CALNAME:Bowling Green
X-ORIGINAL-URL:https://www.bgcountryclub.com
X-WR-CALDESC:Events for Bowling Green
REFRESH-INTERVAL;VALUE=DURATION:PT1H
X-Robots-Tag:noindex
X-PUBLISHED-TTL:PT1H
BEGIN:VTIMEZONE
TZID:America/Toronto
BEGIN:DAYLIGHT
TZOFFSETFROM:-0500
TZOFFSETTO:-0400
TZNAME:EDT
DTSTART:20260308T070000
END:DAYLIGHT
BEGIN:STANDARD
TZOFFSETFROM:-0400
TZOFFSETTO:-0500
TZNAME:EST
DTSTART:20261101T060000
END:STANDARD
END:VTIMEZONE
BEGIN:VEVENT
DTSTART;TZID=America/Toronto:20260426T150000
DTEND;TZID=America/Toronto:20260426T180000
DTSTAMP:20260423T085655
CREATED:20250115T175244Z
LAST-MODIFIED:20260209T153949Z
UID:8507-1777215600-1777226400@www.bgcountryclub.com
SUMMARY:Chili Open Scramble and Dinner
DESCRIPTION:Shotgun start at 3:00pm\nFirst Member Scramble of the Season\nScramble Fee – $10.00/person for 9 holes\nNon-member Green & Cart Fee – $20.00/person\nMulligans $20.00/team \nRules – 	Teams must have at least one BGCC Member in a Foursome\n		Teams will be made up of 4 Players only\n		11 Teams only – Sign up Quick  \nChili/Cornbread – pricing to be announced\nHotdogs will be available for an extra fee!  Food to be ready at 5:00 in the Fairway grill\nNon-golfers – let us know you are coming so we have enough to go around.\nPrizes handed out in the Grill after last team has finished and scores are tallied.
URL:https://www.bgcountryclub.com/event/chili-open-scramble/
LOCATION:Bowling Green Counry Club Golf Course
END:VEVENT
BEGIN:VEVENT
DTSTART;TZID=America/Toronto:20260429T130000
DTEND;TZID=America/Toronto:20260429T160000
DTSTAMP:20260423T085656
CREATED:20260208T172333Z
LAST-MODIFIED:20260208T172346Z
UID:9170-1777467600-1777478400@www.bgcountryclub.com
SUMMARY:Mahjony - weekly - every Wednesday
DESCRIPTION:Would you like to learn – we are the group to join\nJust having fun
URL:https://www.bgcountryclub.com/event/mahjony-weekly-every-wednesday/
LOCATION:Bowling Green Country Club Dining Room\, 923 Fairview Ave\, Bowling Green\, OH\, 43402\, United States
END:VEVENT
BEGIN:VEVENT
DTSTART;TZID=America/Toronto:20260501T160000
DTEND;TZID=America/Toronto:20260501T190000
DTSTAMP:20260423T085656
CREATED:20240408T144942Z
LAST-MODIFIED:20260307T172223Z
UID:7842-1777651200-1777662000@www.bgcountryclub.com
SUMMARY:Wormball Friday Night
DESCRIPTION:Worm Ball 2026 Friday Night Couple League – any kind of couple \nCome join the Friday Evening FUN Wormball golf! NOT SERIOUS GOLF!!!\nStarting Friday\, May 1st through October. Play alternate shots with your partner from tee through hole-out. Whoever makes the putt\, the other partner gets to tee off. You make your own tee times\, starting at 4:00 to 6:00.  \nPut $4.00 in the kitty per Member couple; $2.00 for a member single – to be paired up. $5.00 for non-member couples; $2.50 for single non-member golfers – to be paired up. (Non-members still pay golfing green & cart fees – $30) Ladies tee off from most-forward tees; guys tee off from whichever tees they usually play. (Junior and Senior guys-yellow; Regular golfers – white or blue)  \nTop 3 places will win back money based on how many people play.  Winners will be announced in the Monday Newsletters and on signs around the club.\nInvite your friends! All are welcome!\nIt’s a great way for new / learning golfers to have fun! It’s a HOOT!
URL:https://www.bgcountryclub.com/event/wormball-friday-night-14/
LOCATION:Bowling Green Counry Club Golf Course
END:VEVENT
BEGIN:VEVENT
DTSTART;TZID=America/Toronto:20260504T090000
DTEND;TZID=America/Toronto:20260504T120000
DTSTAMP:20260423T085656
CREATED:20240423T165048Z
LAST-MODIFIED:20260208T164302Z
UID:8049-1777885200-1777896000@www.bgcountryclub.com
SUMMARY:Men's Silver League
DESCRIPTION:Shotgun Start
URL:https://www.bgcountryclub.com/event/mens-silver-league-16/
LOCATION:Bowling Green Counry Club Golf Course
END:VEVENT
BEGIN:VEVENT
DTSTART;TZID=America/Toronto:20260504T160000
DTEND;TZID=America/Toronto:20260504T173000
DTSTAMP:20260423T085656
CREATED:20240408T231344Z
LAST-MODIFIED:20260208T164416Z
UID:7954-1777910400-1777915800@www.bgcountryclub.com
SUMMARY:Men's Monday Night League
DESCRIPTION:
URL:https://www.bgcountryclub.com/event/mens-monday-night-league-16/
LOCATION:Bowling Green Counry Club Golf Course
ORGANIZER;CN="Gary Hartzler":MAILTO:hartz425@roadrunner.com
END:VEVENT
BEGIN:VEVENT
DTSTART;TZID=America/Toronto:20260505T083000
DTEND;TZID=America/Toronto:20260505T110000
DTSTAMP:20260423T085656
CREATED:20240408T160833Z
LAST-MODIFIED:20260208T180633Z
UID:7902-1777969800-1777978800@www.bgcountryclub.com
SUMMARY:Link Lassies Golf League
DESCRIPTION:Tuesday morning league\nTee times start at 8:30am – nine holes\nPay green fees and cart rental on day of golfing\nSign up for tee time with golfers on the day of golfing\n$30 league fee
URL:https://www.bgcountryclub.com/event/link-lassies-golf-league-15/
LOCATION:Bowling Green Counry Club Golf Course
END:VEVENT
BEGIN:VEVENT
DTSTART;TZID=America/Toronto:20260505T173000
DTEND;TZID=America/Toronto:20260505T190000
DTSTAMP:20260423T085656
CREATED:20250115T201903Z
LAST-MODIFIED:20260116T150645Z
UID:8543-1778002200-1778007600@www.bgcountryclub.com
SUMMARY:Cinco De Mayo
DESCRIPTION:Dinner at 5:30 – make reservations as soon as possible – Members and Guests \nCinco de Mayo honors the 1862 Battle of Puebla. While it is not widely celebrated in Mexico\, in the United States\, Cinco de Mayo has become an observance of Mexican culture and heritage\, specifically in regions with large populations of Mexican-Americans. \nThere are several different ways to say Happy Cinco de Mayo in Spanish. Whether you choose the simple “Feliz Cinco de Mayo!” or opt for a longer phrase like “Anhelo papas fritas y salsa todos los días de mi vida!” your well wishes are appreciated.
URL:https://www.bgcountryclub.com/event/cinco-de-mayo-buffet/
LOCATION:Bowling Green Country Club Dining Room\, 923 Fairview Ave\, Bowling Green\, OH\, 43402\, United States
END:VEVENT
BEGIN:VEVENT
DTSTART;TZID=America/Toronto:20260508T160000
DTEND;TZID=America/Toronto:20260508T170000
DTSTAMP:20260423T085656
CREATED:20260208T175434Z
LAST-MODIFIED:20260307T172110Z
UID:9196-1778256000-1778259600@www.bgcountryclub.com
SUMMARY:Wormball - every Friday
DESCRIPTION:Worm Ball 2026 Friday Night Couple League – any kind of couple \nCome join the Friday Evening FUN Wormball golf! NOT SERIOUS GOLF!!!\nStarting Friday\, May 1st through October. Play alternate shots with your partner from tee through hole-out. Whoever makes the putt\, the other partner gets to tee off. You make your own tee times\, starting at 4:00 to 6:00.  \nPut $4.00 in the kitty per Member couple; $2.00 for a member single – to be paired up. $5.00 for non-member couples; $2.50 for single non-member golfers – to be paired up. (Non-members still pay golfing green & cart fees – $30) Ladies tee off from most-forward tees; guys tee off from whichever tees they usually play. (Junior and Senior guys-yellow; Regular golfers – white or blue)  \nTop 3 places will win back money based on how many people play.  Winners will be announced in the Monday Newsletters and on signs around the club.\nInvite your friends! All are welcome!\nIt’s a great way for new / learning golfers to have fun! It’s a HOOT!
URL:https://www.bgcountryclub.com/event/wormball-every-friday/
LOCATION:Bowling Green Counry Club Golf Course
END:VEVENT
BEGIN:VEVENT
DTSTART;TZID=America/Toronto:20260508T170000
DTEND;TZID=America/Toronto:20260508T190000
DTSTAMP:20260423T085656
CREATED:20250115T202723Z
LAST-MODIFIED:20260116T150424Z
UID:8548-1778259600-1778266800@www.bgcountryclub.com
SUMMARY:Mother's Day Weekend - Friday Night Dinner
DESCRIPTION:Dinner Celebration \nTraditionally\, the “Mother’s Day flower” is the white carnation (dianthus caryophyllus). Anna Jarvis\, one of the founders of the modern Mother’s Day celebration\, chose the white carnation as its official flower because it had been her mother’s favorite. \nThe white carnation symbolizes the purity of a mother’s love—but be careful with a bouquet of white carnations: Today\, they symbolize death and a mother who has passed away. Choose red or pink carnations to honor a living mother\, or mix your bouquet.
URL:https://www.bgcountryclub.com/event/mothers-day-weekend-friday-night-dinner/
LOCATION:Bowling Green Country Club Dining Room\, 923 Fairview Ave\, Bowling Green\, OH\, 43402\, United States
END:VEVENT
BEGIN:VEVENT
DTSTART;TZID=America/Toronto:20260510T110000
DTEND;TZID=America/Toronto:20260510T133000
DTSTAMP:20260423T085656
CREATED:20250115T204143Z
LAST-MODIFIED:20260116T145959Z
UID:8551-1778410800-1778419800@www.bgcountryclub.com
SUMMARY:Mother's Day Brunch
DESCRIPTION:Where else can you take your mother where you can treat her like a queeen.\nTablecloths – Flowers – Sweets – Mimosas – (fill in the blanks)
URL:https://www.bgcountryclub.com/event/mothers-day-brunch/
LOCATION:Bowling Green Country Club Dining Room\, 923 Fairview Ave\, Bowling Green\, OH\, 43402\, United States
END:VEVENT
BEGIN:VEVENT
DTSTART;TZID=America/Toronto:20260511T080000
DTEND;TZID=America/Toronto:20260511T110000
DTSTAMP:20260423T085656
CREATED:20260208T173854Z
LAST-MODIFIED:20260208T173903Z
UID:9179-1778486400-1778497200@www.bgcountryclub.com
SUMMARY:Men's Silver League
DESCRIPTION:
URL:https://www.bgcountryclub.com/event/mens-silver-league/
LOCATION:Bowling Green Counry Club Golf Course
END:VEVENT
BEGIN:VEVENT
DTSTART;TZID=America/Toronto:20260511T160000
DTEND;TZID=America/Toronto:20260511T173000
DTSTAMP:20260423T085656
CREATED:20240408T231507Z
LAST-MODIFIED:20260208T165041Z
UID:7957-1778515200-1778520600@www.bgcountryclub.com
SUMMARY:Men's Monday Night League
DESCRIPTION:
URL:https://www.bgcountryclub.com/event/mens-monday-night-league-17/
LOCATION:Bowling Green Counry Club Golf Course
ORGANIZER;CN="Gary Hartzler":MAILTO:hartz425@roadrunner.com
END:VEVENT
BEGIN:VEVENT
DTSTART;TZID=America/Toronto:20260512T090000
DTEND;TZID=America/Toronto:20260512T110000
DTSTAMP:20260423T085656
CREATED:20260208T180738Z
LAST-MODIFIED:20260215T202923Z
UID:9210-1778576400-1778583600@www.bgcountryclub.com
SUMMARY:Link Lassies Golf League
DESCRIPTION:Tuesday morning league\nTee times start at 8:30am – nine holes\nPay green fees and cart rental on day of golfing\nSign up for tee time with golfers on the day of golfing
URL:https://www.bgcountryclub.com/event/link-lassies-golf-league/
LOCATION:Bowling Green Counry Club Golf Course
END:VEVENT
BEGIN:VEVENT
DTSTART;TZID=America/Toronto:20260512T140000
DTEND;TZID=America/Toronto:20260512T150000
DTSTAMP:20260423T085656
CREATED:20260208T173718Z
LAST-MODIFIED:20260208T173731Z
UID:9176-1778594400-1778598000@www.bgcountryclub.com
SUMMARY:Social Committee Meeting
DESCRIPTION:Discussing June Events – Father’s Day
URL:https://www.bgcountryclub.com/event/social-committee-meeting-3/
END:VEVENT
BEGIN:VEVENT
DTSTART;TZID=America/Toronto:20260514T160000
DTEND;TZID=America/Toronto:20260514T200000
DTSTAMP:20260423T085656
CREATED:20260211T161120Z
LAST-MODIFIED:20260211T162303Z
UID:9333-1778774400-1778788800@www.bgcountryclub.com
SUMMARY:Chili Dippers Golf League
DESCRIPTION:Shotgun Start at 6:00
URL:https://www.bgcountryclub.com/event/chili-dippers-golf-league/
LOCATION:Bowling Green Counry Club Golf Course
END:VEVENT
BEGIN:VEVENT
DTSTART;TZID=America/Toronto:20260515T160000
DTEND;TZID=America/Toronto:20260515T190000
DTSTAMP:20260423T085656
CREATED:20260208T175608Z
LAST-MODIFIED:20260307T171937Z
UID:9199-1778860800-1778871600@www.bgcountryclub.com
SUMMARY:Wormball - every Friday
DESCRIPTION:Worm Ball 2026 Friday Night Couple League – any kind of couple \nCome join the Friday Evening FUN Wormball golf! NOT SERIOUS GOLF!!!\nStarting Friday\, May 1st through October. Play alternate shots with your partner from tee through hole-out. Whoever makes the putt\, the other partner gets to tee off. You make your own tee times\, starting at 4:00 to 6:00.  \nPut $4.00 in the kitty per Member couple; $2.00 for a member single – to be paired up. $5.00 for non-member couples; $2.50 for single non-member golfers – to be paired up. (Non-members still pay golfing green & cart fees – $30) Ladies tee off from most-forward tees; guys tee off from whichever tees they usually play. (Junior and Senior guys-yellow; Regular golfers – white or blue)  \nTop 3 places will win back money based on how many people play.  Winners will be announced in the Monday Newsletters and on signs around the club.\nInvite your friends! All are welcome!\nIt’s a great way for new / learning golfers to have fun! It’s a HOOT!
URL:https://www.bgcountryclub.com/event/wormball-every-friday-2/
LOCATION:Bowling Green Counry Club Golf Course
END:VEVENT
BEGIN:VEVENT
DTSTART;TZID=America/Toronto:20260518T090000
DTEND;TZID=America/Toronto:20260518T110000
DTSTAMP:20260423T085656
CREATED:20260208T174017Z
LAST-MODIFIED:20260208T174025Z
UID:9182-1779094800-1779102000@www.bgcountryclub.com
SUMMARY:Men's Silver League
DESCRIPTION:
URL:https://www.bgcountryclub.com/event/mens-silver-league-2/
LOCATION:Bowling Green Counry Club Golf Course
END:VEVENT
BEGIN:VEVENT
DTSTART;TZID=America/Toronto:20260518T160000
DTEND;TZID=America/Toronto:20260518T193000
DTSTAMP:20260423T085656
CREATED:20260208T174433Z
LAST-MODIFIED:20260208T174442Z
UID:9191-1779120000-1779132600@www.bgcountryclub.com
SUMMARY:Men's Monday Night League
DESCRIPTION:
URL:https://www.bgcountryclub.com/event/mens-monday-night-league-2/
LOCATION:Bowling Green Counry Club Golf Course
END:VEVENT
BEGIN:VEVENT
DTSTART;TZID=America/Toronto:20260518T190000
DTEND;TZID=America/Toronto:20260518T210000
DTSTAMP:20260423T085656
CREATED:20260209T154150Z
LAST-MODIFIED:20260209T155126Z
UID:9223-1779130800-1779138000@www.bgcountryclub.com
SUMMARY:Euchre Night
DESCRIPTION:Everyone is welcome
URL:https://www.bgcountryclub.com/event/euchre-night/
LOCATION:Bowling Green Country Club Dining Room\, 923 Fairview Ave\, Bowling Green\, OH\, 43402\, United States
ORGANIZER;CN="Carol Sanner":MAILTO:csanner@bgsu.edu
END:VEVENT
BEGIN:VEVENT
DTSTART;TZID=America/Toronto:20260519T090000
DTEND;TZID=America/Toronto:20260519T110000
DTSTAMP:20260423T085656
CREATED:20260208T180855Z
LAST-MODIFIED:20260208T180904Z
UID:9213-1779181200-1779188400@www.bgcountryclub.com
SUMMARY:Link Ladies Lassies League
DESCRIPTION:Tuesday morning league\nTee times start at 8:30am – nine holes\nPay green fees and cart rental on day of golfing\nSign up for tee time with golfers on the day of golfing
URL:https://www.bgcountryclub.com/event/link-ladies-lassies-league/
LOCATION:Bowling Green Counry Club Golf Course
END:VEVENT
BEGIN:VEVENT
DTSTART;TZID=America/Toronto:20260521T160000
DTEND;TZID=America/Toronto:20260521T200000
DTSTAMP:20260423T085656
CREATED:20260211T162458Z
LAST-MODIFIED:20260211T162507Z
UID:9337-1779379200-1779393600@www.bgcountryclub.com
SUMMARY:Chili Dippers Golf League
DESCRIPTION:Shotgun start at 6:00
URL:https://www.bgcountryclub.com/event/chili-dippers-golf-league-2/
LOCATION:Bowling Green Counry Club Golf Course
END:VEVENT
BEGIN:VEVENT
DTSTART;TZID=America/Toronto:20260522T160000
DTEND;TZID=America/Toronto:20260522T190000
DTSTAMP:20260423T085656
CREATED:20260208T175735Z
LAST-MODIFIED:20260307T171842Z
UID:9202-1779465600-1779476400@www.bgcountryclub.com
SUMMARY:Wormball - every Friday
DESCRIPTION:Worm Ball 2026 Friday Night Couple League – any kind of couple \nCome join the Friday Evening FUN Wormball golf! NOT SERIOUS GOLF!!!\nStarting Friday\, May 1st through October. Play alternate shots with your partner from tee through hole-out. Whoever makes the putt\, the other partner gets to tee off. You make your own tee times\, starting at 4:00 to 6:00.  \nPut $4.00 in the kitty per Member couple; $2.00 for a member single – to be paired up. $5.00 for non-member couples; $2.50 for single non-member golfers – to be paired up. (Non-members still pay golfing green & cart fees – $30) Ladies tee off from most-forward tees; guys tee off from whichever tees they usually play. (Junior and Senior guys-yellow; Regular golfers – white or blue)  \nTop 3 places will win back money based on how many people play.  Winners will be announced in the Monday Newsletters and on signs around the club.\nInvite your friends! All are welcome!\nIt’s a great way for new / learning golfers to have fun! It’s a HOOT!
URL:https://www.bgcountryclub.com/event/wormball-every-friday-3/
LOCATION:Bowling Green Counry Club Golf Course
END:VEVENT
BEGIN:VEVENT
DTSTART;TZID=America/Toronto:20260524T150000
DTEND;TZID=America/Toronto:20260524T180000
DTSTAMP:20260423T085656
CREATED:20250115T190731Z
LAST-MODIFIED:20260116T150217Z
UID:8512-1779634800-1779645600@www.bgcountryclub.com
SUMMARY:Memorial Day Scramble
DESCRIPTION:Memorial Golf Scramble\nShotgun start at 3:00pm\nSign up at the Pro Shop \nScramble Fee – $10.00/person\nNon-members also pay green & cart fees\nSign up at the Pro Shop with your team or we will match\nEach team must have at least 1 member \nMulligans – $20/team or $5/person \nBrats/Burgers Buffet in the Fairway Grill – extra fee
URL:https://www.bgcountryclub.com/event/memorial-day-scramble/
LOCATION:Bowling Green Counry Club Golf Course
END:VEVENT
BEGIN:VEVENT
DTSTART;TZID=America/Toronto:20260525T090000
DTEND;TZID=America/Toronto:20260525T110000
DTSTAMP:20260423T085656
CREATED:20260208T174124Z
LAST-MODIFIED:20260208T174124Z
UID:9185-1779699600-1779706800@www.bgcountryclub.com
SUMMARY:Men's Silver League
DESCRIPTION:
URL:https://www.bgcountryclub.com/event/mens-silver-league-3/
LOCATION:Bowling Green Counry Club Golf Course
END:VEVENT
BEGIN:VEVENT
DTSTART;TZID=America/Toronto:20260525T160000
DTEND;TZID=America/Toronto:20260525T193000
DTSTAMP:20260423T085656
CREATED:20260208T174302Z
LAST-MODIFIED:20260208T174942Z
UID:9188-1779724800-1779737400@www.bgcountryclub.com
SUMMARY:Men's Monday Night League
DESCRIPTION:
URL:https://www.bgcountryclub.com/event/mens-monday-night-league/
LOCATION:Bowling Green Counry Club Golf Course
END:VEVENT
BEGIN:VEVENT
DTSTART;TZID=America/Toronto:20260526T090000
DTEND;TZID=America/Toronto:20260526T110000
DTSTAMP:20260423T085656
CREATED:20260208T180957Z
LAST-MODIFIED:20260208T181013Z
UID:9216-1779786000-1779793200@www.bgcountryclub.com
SUMMARY:Link Lassies Ladies Golf League
DESCRIPTION:Tuesday morning league\nTee times start at 8:30am – nine holes\nPay green fees and cart rental on day of golfing\nSign up for tee time with golfers on the day of golfing
URL:https://www.bgcountryclub.com/event/link-lassies-ladies-golf-league/
LOCATION:Bowling Green Counry Club Golf Course
END:VEVENT
BEGIN:VEVENT
DTSTART;TZID=America/Toronto:20260528T080000
DTEND;TZID=America/Toronto:20260528T170000
DTSTAMP:20260423T085656
CREATED:20260211T163423Z
LAST-MODIFIED:20260211T163446Z
UID:9341-1779955200-1779987600@www.bgcountryclub.com
SUMMARY:Chili Dippers Golf League
DESCRIPTION:Shotgun start at 6:00pm
URL:https://www.bgcountryclub.com/event/chili-dippers-golf-league-3/
LOCATION:Bowling Green Counry Club Golf Course
END:VEVENT
BEGIN:VEVENT
DTSTART;TZID=America/Toronto:20260529T160000
DTEND;TZID=America/Toronto:20260529T190000
DTSTAMP:20260423T085656
CREATED:20260208T175908Z
LAST-MODIFIED:20260307T171720Z
UID:9205-1780070400-1780081200@www.bgcountryclub.com
SUMMARY:Wormball - every Friday
DESCRIPTION:Worm Ball 2026 Friday Night Couple League – any kind of couple \nCome join the Friday Evening FUN Wormball golf! NOT SERIOUS GOLF!!!\nStarting Friday\, May 1st through October. Play alternate shots with your partner from tee through hole-out. Whoever makes the putt\, the other partner gets to tee off. You make your own tee times\, starting at 4:00 to 6:00.  \nPut $4.00 in the kitty per Member couple; $2.00 for a member single – to be paired up. $5.00 for non-member couples; $2.50 for single non-member golfers – to be paired up. (Non-members still pay golfing green & cart fees – $30) Ladies tee off from most-forward tees; guys tee off from whichever tees they usually play. (Junior and Senior guys-yellow; Regular golfers – white or blue)  \nTop 3 places will win back money based on how many people play.  Winners will be announced in the Monday Newsletters and on signs around the club.\nInvite your friends! All are welcome!\nIt’s a great way for new / learning golfers to have fun! It’s a HOOT!
URL:https://www.bgcountryclub.com/event/wormball-every-friday-4/
LOCATION:Bowling Green Counry Club Golf Course
END:VEVENT
BEGIN:VEVENT
DTSTART;TZID=America/Toronto:20260601T080000
DTEND;TZID=America/Toronto:20260601T120000
DTSTAMP:20260423T085656
CREATED:20260215T155429Z
LAST-MODIFIED:20260215T155445Z
UID:9398-1780300800-1780315200@www.bgcountryclub.com
SUMMARY:Men's Silver League
DESCRIPTION:Shotgun start at 9:00am
URL:https://www.bgcountryclub.com/event/mens-silver-league-4/
LOCATION:Bowling Green Counry Club Golf Course
END:VEVENT
BEGIN:VEVENT
DTSTART;TZID=America/Toronto:20260601T160000
DTEND;TZID=America/Toronto:20260601T173000
DTSTAMP:20260423T085656
CREATED:20260215T211048Z
LAST-MODIFIED:20260215T211118Z
UID:9487-1780329600-1780335000@www.bgcountryclub.com
SUMMARY:Men's Monday Night League
DESCRIPTION:
URL:https://www.bgcountryclub.com/event/mens-monday-night-league-3/
LOCATION:Bowling Green Counry Club Golf Course
ORGANIZER;CN="Gary Hartzler":MAILTO:hartz425@roadrunner.com
END:VEVENT
END:VCALENDAR